BEGIN:VCALENDAR
VERSION:2.0
PRODID:-//Tukios.com/
BEGIN:VEVENT
UID:f3599695-4849-44c3-95af-0a133a8f5483@www.thompsonstricklandwaters.com
DTSTAMP:20260424T003256Z
DTSTART:20260425T200000Z
DTEND:20260425T210000Z
SUMMARY:Funeral Service
DESCRIPTION:
URL:https://www.thompsonstricklandwaters.com/obituaries/william-hunt
LOCATION:Thompson-Strickland-Waters, Joiner Anderson Chapel 202 Ennis 
	Street  Sylvania GA 30467
GEO:32.7481844;-81.6379522
END:VEVENT
END:VCALENDAR