BEGIN:VCALENDAR
VERSION:2.0
PRODID:-//Tukios.com/
BEGIN:VEVENT
UID:4a2f07d1-89c6-4c43-b46d-745e21d640fc@www.thompsonstricklandwaters.com
DTSTAMP:20260424T002603Z
DTSTART:20260425T190000Z
DTEND:20260425T200000Z
SUMMARY:Visitation
DESCRIPTION:
URL:https://www.thompsonstricklandwaters.com/obituaries/william-hunt
LOCATION:Thompson-Strickland-Waters, Joiner Anderson Chapel 202 Ennis 
	Street  Sylvania GA 30467
GEO:32.7481844;-81.6379522
END:VEVENT
END:VCALENDAR