BEGIN:VCALENDAR
VERSION:2.0
PRODID:-//Tukios.com/
BEGIN:VEVENT
UID:9b4c5ad9-9cb7-4ea8-9fbb-a64a316854c7@www.thompsonstricklandwaters.com
DTSTAMP:20260425T031520Z
DTSTART:20260426T220000Z
DTEND:20260426T230000Z
SUMMARY:Funeral Service
DESCRIPTION:
URL:https://www.thompsonstricklandwaters.com/obituaries/lunette-whitehead
LOCATION:Buck Creek Church sanctuary 2508 Buck Creek Road  Sylvania GA 
	30467
GEO:32.75217;-81.5239594
END:VEVENT
END:VCALENDAR