BEGIN:VCALENDAR
VERSION:2.0
PRODID:-//Tukios.com/
BEGIN:VEVENT
UID:fba2f650-27c8-4655-a4ce-4c339a1d4b8d@www.thompsonstricklandwaters.com
DTSTAMP:20260425T031515Z
DTSTART:20260426T210000Z
DTEND:20260426T220000Z
SUMMARY:Visitation
DESCRIPTION:
URL:https://www.thompsonstricklandwaters.com/obituaries/lunette-whitehead
LOCATION:Buck Creek Church fellowship hall 2508 Buck Creek Road  Sylvania 
	GA 30467
GEO:32.75217;-81.5239594
END:VEVENT
END:VCALENDAR