BEGIN:VCALENDAR
VERSION:2.0
PRODID:-//Tukios.com/
BEGIN:VEVENT
UID:e128969d-30c6-4215-b74d-f04c268a147c@www.thompsonstricklandwaters.com
DTSTAMP:20260420T180118Z
DTSTART:20260424T220000Z
DTEND:20260424T230000Z
SUMMARY:Funeral Service
DESCRIPTION:
URL:https://www.thompsonstricklandwaters.com/obituaries/kerry-sharpe
LOCATION:Thompson Strickland Waters, Joiner Anderson Chapel 202 Ennis 
	Street  Sylvania GA 30467
GEO:32.7481844;-81.6379522
END:VEVENT
END:VCALENDAR