BEGIN:VCALENDAR
VERSION:2.0
PRODID:-//Tukios.com/
BEGIN:VEVENT
UID:5c67e867-5bdc-466d-9667-3d314be872ec@www.thompsonstricklandwaters.com
DTSTAMP:20260420T180242Z
DTSTART:20260424T210000Z
DTEND:20260424T220000Z
SUMMARY:Visitation
DESCRIPTION:
URL:https://www.thompsonstricklandwaters.com/obituaries/kerry-sharpe
LOCATION:Thompson Strickland Waters, Joiner Anderson Chapel 202 Ennis 
	Street  Sylvania GA 30467
GEO:32.7481844;-81.6379522
END:VEVENT
END:VCALENDAR