BEGIN:VCALENDAR
VERSION:2.0
PRODID:-//Tukios.com/
BEGIN:VEVENT
UID:67dbae37-1972-4a9c-be52-eb0f84b25621@www.thompsonstricklandwaters.com
DTSTAMP:20260422T203515Z
DTSTART:20260424T190000Z
DTEND:20260424T200000Z
SUMMARY:Funeral Service
DESCRIPTION:
URL:https://www.thompsonstricklandwaters.com/obituaries/jeanette-boykin
LOCATION:Thompson-Strickland-Waters, Joiner Anderson Chapel 202 Ennis 
	Street  Sylvania GA 30467
GEO:32.7481844;-81.6379522
END:VEVENT
END:VCALENDAR