BEGIN:VCALENDAR
VERSION:2.0
PRODID:-//Tukios.com/
BEGIN:VEVENT
UID:f7f99abd-ff0d-4855-a81c-72de6e024725@www.thompsonstricklandwaters.com
DTSTAMP:20260422T204022Z
DTSTART:20260424T180000Z
DTEND:20260424T190000Z
SUMMARY:Visitation
DESCRIPTION:
URL:https://www.thompsonstricklandwaters.com/obituaries/jeanette-boykin
LOCATION:Thompson-Strickland-Waters, Joiner Anderson Chapel 202 Ennis 
	Street  Sylvania GA 30467
GEO:32.7481844;-81.6379522
END:VEVENT
END:VCALENDAR